BEGIN:VCALENDAR
PRODID:-//eluceo/ical//2.0/EN
VERSION:2.0
CALSCALE:GREGORIAN
BEGIN:VEVENT
UID:7a3bcf9c93f80de11453725bfc506302
DTSTAMP:20260422T102514Z
SUMMARY:Jewish Book Festival presents: Micah Siva
DESCRIPTION:Jewish Federation of the Greater San Gabriel & Pomona Valleys\n
 COMMUNITY CALENDAR\nhttps://jewishsgpv.org/calendar/jewish-book-festival-p
 resents-micah-siva\n\nMicah Siva\nNosh\nPlant-Forward Recipes Celebrating 
 Modern Jewish Cuisine\n\n \n\nMicah Siva thinks food is central to the Je
 wish community whether or not you eat meat. Influenced by her grandmothers
  who left no one hungry\, she puts a fun\, contemporary twist on the class
 ics with vegetarian and vegan recipes like carrot “lox\,” lemony blint
 zes\, pulled mushroom-and-tofu “brisket\,” and spiced cauliflower chra
 ime.\n\nWhether you’re preparing a holiday feast or a quick weeknight me
 al\, th...
DTSTART;TZID=America/Los_Angeles:20241212T190000
DTEND;TZID=America/Los_Angeles:20241212T210000
END:VEVENT
END:VCALENDAR
