BEGIN:VCALENDAR
PRODID:-//eluceo/ical//2.0/EN
VERSION:2.0
CALSCALE:GREGORIAN
BEGIN:VEVENT
UID:2f3cf403817a53fa82b4d2c737cad3a3
DTSTAMP:20260422T090258Z
SUMMARY:Jewish Book Festival presents: Local Authors Night
DESCRIPTION:Jewish Federation of the Greater San Gabriel & Pomona Valleys\n
 COMMUNITY CALENDAR\nhttps://jewishsgpv.org/calendar/jewish-book-festival-p
 resents-local-authors-night\n\n
DTSTART;TZID=America/Los_Angeles:20241114T190000
DTEND;TZID=America/Los_Angeles:20241114T210000
END:VEVENT
END:VCALENDAR
