BEGIN:VCALENDAR
PRODID:-//eluceo/ical//2.0/EN
VERSION:2.0
CALSCALE:GREGORIAN
BEGIN:VEVENT
UID:11d893b5e6bb2557c9dc66c831fd8525
DTSTAMP:20260419T214748Z
SUMMARY:Jewish Book Festival presents: Lee Yaron
DESCRIPTION:Jewish Federation of the Greater San Gabriel & Pomona Valleys\n
 COMMUNITY CALENDAR\nhttps://jewishsgpv.org/calendar/jewish-book-festival-p
 resents-lee-yaron\n\nLee Yaron\n10/7:\n100 Human Stories\n\n \n\nAcclaime
 d Haaretz reporter Lee Yaron chronicles the October 7 Hamas massacre\, not
  through the usual commentary of politicians and the military\, but throug
 h the eyes of the civilians on the front lines. Through extensive intervie
 ws with survivors\, the bereaved\, and first responders in Israel and beyo
 nd\, she profiles victims from a wide range of communities to honor their 
 memories and their lives before the Gaza war. In doing so\, she uncovers h
 ow the...
DTSTART;TZID=America/Los_Angeles:20241103T190000
DTEND;TZID=America/Los_Angeles:20241103T200000
END:VEVENT
END:VCALENDAR
