BEGIN:VCALENDAR
PRODID:-//eluceo/ical//2.0/EN
VERSION:2.0
CALSCALE:GREGORIAN
BEGIN:VEVENT
UID:38f908a248f1f0546262a8a24c65cb92
DTSTAMP:20260422T185724Z
SUMMARY:Jewish Book Festival presents: Larry Tye
DESCRIPTION:Jewish Federation of the Greater San Gabriel & Pomona Valleys\n
 COMMUNITY CALENDAR\nhttps://jewishsgpv.org/calendar/jewish-book-festival-p
 resents-larry-tye\n\nLarry Tye\nThe Jazzmen\nHow Duke Ellington\, Louis Ar
 mstrong\, and Count Basie Transformed America\n\n \n\n \n\nDuke Ellingto
 n\, Louis Armstrong\, and Count Basie were all born within a few years of 
 one another and overcame racist exclusion and violence to become the most 
 popular entertainers on the planet. Drawing on more than 250 interviews\, 
 Tye contends that by opening America’s eyes and souls to the magnificenc
 e of their music\, they also wrote the soundtrack for the civil rights mov
 ement....
DTSTART;TZID=America/Los_Angeles:20241215T193000
DTEND;TZID=America/Los_Angeles:20241215T213000
END:VEVENT
END:VCALENDAR
