BEGIN:VCALENDAR
PRODID:-//eluceo/ical//2.0/EN
VERSION:2.0
CALSCALE:GREGORIAN
BEGIN:VEVENT
UID:4e338c25aae6b19b1af2c4aba44f9cbf
DTSTAMP:20260420T000551Z
SUMMARY:Jewish Book Festival presents: Jonathan Santlofer
DESCRIPTION:Jewish Federation of the Greater San Gabriel & Pomona Valleys\n
 COMMUNITY CALENDAR\nhttps://jewishsgpv.org/calendar/jewish-book-festival-p
 resents-jonathan-santlofer\n\n
DTSTART;TZID=America/Los_Angeles:20211130T190000
DTEND;TZID=America/Los_Angeles:20211130T210000
END:VEVENT
END:VCALENDAR
