BEGIN:VCALENDAR
PRODID:-//eluceo/ical//2.0/EN
VERSION:2.0
CALSCALE:GREGORIAN
BEGIN:VEVENT
UID:c94fe0e5ba9d42cab92d9ddf0392615b
DTSTAMP:20260423T184038Z
SUMMARY:Jewish Book Festival presents: Ethan Berlin
DESCRIPTION:Jewish Federation of the Greater San Gabriel & Pomona Valleys\n
 COMMUNITY CALENDAR\nhttps://jewishsgpv.org/calendar/jewish-book-festival-p
 resents-ethan-berlin\n\n*IMPORTANT IN-PERSON ATTENDEE INFORMATION:\nPlease
  note that all Federal\, State\, and Local health guidelines will be follo
 wed. Proof of vaccination will be required for all eligible attendees\, as
  will wearing of masks. Reservations are a must in order for us to provide
  updates pertaining to all in-person events.
DTSTART;TZID=America/Los_Angeles:20211107T100000
DTEND;TZID=America/Los_Angeles:20211107T120000
END:VEVENT
END:VCALENDAR
