BEGIN:VCALENDAR
PRODID:-//eluceo/ical//2.0/EN
VERSION:2.0
CALSCALE:GREGORIAN
BEGIN:VEVENT
UID:5acd99315c1121411d0c2e300c5ec05f
DTSTAMP:20260419T214730Z
SUMMARY:Jewish Book Festival presents: Emily Matchar
DESCRIPTION:Jewish Federation of the Greater San Gabriel & Pomona Valleys\n
 COMMUNITY CALENDAR\nhttps://jewishsgpv.org/calendar/jewish-book-festival-p
 resents-emily-matchar\n\nEmily Matchar\nIn the Shadow of the Greenbrier:\n
 A Novel\n\nThe Greenbrier Resort in West Virginia has kept many secrets—
 including the government’s. The Zelners\, who run a dry goods store near
 by\, grapple with their role as the only Jews in town. When the Greenbrier
  is commandeered as a luxury prison for Axis diplomats\, their daughter-in
 -law finds her fidelity strained. Years later\, she and her children must 
 reckon with the dangerous secrets she has kept\, but it will be her grands
 on who fi...
DTSTART;TZID=America/Los_Angeles:20241201T160000
DTEND;TZID=America/Los_Angeles:20241201T180000
END:VEVENT
END:VCALENDAR
