BEGIN:VCALENDAR
PRODID:-//eluceo/ical//2.0/EN
VERSION:2.0
CALSCALE:GREGORIAN
BEGIN:VEVENT
UID:355346ab694773db747e4182ffb517c9
DTSTAMP:20260424T145357Z
SUMMARY:Jewish Book Festival presents: David Page
DESCRIPTION:Jewish Federation of the Greater San Gabriel & Pomona Valleys\n
 COMMUNITY CALENDAR\nhttps://jewishsgpv.org/calendar/jewish-book-festival-p
 resents-david-page\n\n
DTSTART;TZID=America/Los_Angeles:20211026T190000
DTEND;TZID=America/Los_Angeles:20211026T210000
END:VEVENT
END:VCALENDAR
