BEGIN:VCALENDAR
PRODID:-//eluceo/ical//2.0/EN
VERSION:2.0
CALSCALE:GREGORIAN
BEGIN:VEVENT
UID:3e03466f37072696c258f326d2446fea
DTSTAMP:20260422T192947Z
SUMMARY:Jewish Book Festival presents: Arthur Smith
DESCRIPTION:Jewish Federation of the Greater San Gabriel & Pomona Valleys\n
 COMMUNITY CALENDAR\nhttps://jewishsgpv.org/calendar/jewish-book-festival-p
 resents-arthur-smith\n\nArthur Smith\nReach:\nHard Lessons and Learned Tru
 ths from a Lifetime in Television\n\n \n\n \n\nReality TV pioneer Arthur
  Smith is the producer behind hits like Hell’s Kitchen and the Emmy-nomi
 nated American Ninja Warrior. In Reach\, he shares adventures\, triumphs\,
  and hard-won lessons from his astonishing career. From the high-intensity
  control room at the Olympics to the development of The Titan Games with D
 wayne “The Rock” Johnson\, his behind-the-scenes memoir illustrates ju
 st how ...
DTSTART;TZID=America/Los_Angeles:20241109T190000
DTEND;TZID=America/Los_Angeles:20241109T210000
END:VEVENT
END:VCALENDAR
