BEGIN:VCALENDAR
PRODID:-//eluceo/ical//2.0/EN
VERSION:2.0
CALSCALE:GREGORIAN
BEGIN:VEVENT
UID:149416c05efc4b2e749052d056515d38
DTSTAMP:20260419T160744Z
SUMMARY:Jewish Book Festival presents: Ami Ayalon
DESCRIPTION:Jewish Federation of the Greater San Gabriel & Pomona Valleys\n
 COMMUNITY CALENDAR\nhttps://jewishsgpv.org/calendar/jewish-book-festival-p
 resents-ami-ayalon\n\n
DTSTART;TZID=America/Los_Angeles:20211031T120000
DTEND;TZID=America/Los_Angeles:20211031T140000
END:VEVENT
END:VCALENDAR
