BEGIN:VCALENDAR
PRODID:-//eluceo/ical//2.0/EN
VERSION:2.0
CALSCALE:GREGORIAN
BEGIN:VEVENT
UID:496b04d991f561842f6bcc111995bd07
DTSTAMP:20260419T144904Z
SUMMARY:Jewish Book Festival presents: Adelle Waldman
DESCRIPTION:Jewish Federation of the Greater San Gabriel & Pomona Valleys\n
 COMMUNITY CALENDAR\nhttps://jewishsgpv.org/calendar/jewish-book-festival-p
 resents-adelle-waldman\n\n \n\nAdelle Waldman\nHelp Wanted:\nA Novel\n\n
  \n\n \n\nUnder the eyes of a self-absorbed and barely competent boss\, 
 the small-town workers in a big-box store follow a familiar\, if grueling\
 , routine. Most of them are barely getting by\, even with second or third 
 jobs. When the manager announces he’s leaving\, the team spots an opport
 unity to promote from within their own ranks. A humane and darkly comic wo
 rkplace caper based on Waldman’s own experiences and her investigative j
 ournali...
DTSTART;TZID=America/Los_Angeles:20241208T160000
DTEND;TZID=America/Los_Angeles:20241208T180000
END:VEVENT
END:VCALENDAR
