BEGIN:VCALENDAR
PRODID:-//eluceo/ical//2.0/EN
VERSION:2.0
CALSCALE:GREGORIAN
BEGIN:VEVENT
UID:bebb6708ed561200993187a210ccf585
DTSTAMP:20260420T205430Z
SUMMARY:Jewish Book Festival presents: Miri Leshem-Pelly
DESCRIPTION:Jewish Federation of the Greater San Gabriel & Pomona Valleys\n
 COMMUNITY CALENDAR\nhttps://jewishsgpv.org/calendar/jewish-book-festival-p
 resents\n\nMiri Leshem-Pelly\nA Feather\, a Pebble\, a Shell\n\n \n\nA gi
 rl loves to explore Israel’s different nature sites\, from grassy parks 
 and riverbanks to rocky desert canyons—even the Red Sea! Every time she 
 runs across a field\, climbs a hill\, or swims in the sea\, she looks for 
 something small to hold in her hand. What treasures does she find? What bi
 rds and animals can you find with her? Join us in discovering all the diff
 erent places she goes to and the wide variety of animals that call Isr...
DTSTART;TZID=America/Los_Angeles:20241103T000000
DTEND;TZID=America/Los_Angeles:20241103T235959
END:VEVENT
END:VCALENDAR
