BEGIN:VCALENDAR
PRODID:-//eluceo/ical//2.0/EN
VERSION:2.0
CALSCALE:GREGORIAN
BEGIN:VEVENT
UID:fdea6daef4a5055cfc420bb1ae93a3e1
DTSTAMP:20260422T214742Z
SUMMARY:Jewish Book Festival | Oren Kessler | Palestine 1936
DESCRIPTION:Jewish Federation of the Greater San Gabriel & Pomona Valleys\n
 COMMUNITY CALENDAR\nhttps://jewishsgpv.org/calendar/jewish-book-festival-o
 ren-kessler--palestine-1936\n\nIn 1936\, Arabs in Palestine rebelled again
 st both the increasing Jewish immigration from Europe and British authorit
 ies. The Great Revolt caused Arab communities to coalesce\, and cost many 
 lives on all sides. It also forced Zionist leaders to prepare for open con
 flict. Yet\, it has largely been forgotten. Oren Kessler tracked down expe
 rts and historical archives on three continents for a balanced account of 
 the revolt and its lasting impact through the eyes of Arab\, Jewish\, and 
 British leaders...
DTSTART;TZID=America/Los_Angeles:20231101T190000
DTEND;TZID=America/Los_Angeles:20231101T210000
END:VEVENT
END:VCALENDAR
