BEGIN:VCALENDAR
PRODID:-//eluceo/ical//2.0/EN
VERSION:2.0
CALSCALE:GREGORIAN
BEGIN:VEVENT
UID:d24ba2e7634c1956ad78fe26c28873a4
DTSTAMP:20260422T193854Z
SUMMARY:Jewish Book Festival | Omer Bartov | The Butterfly and the Axe
DESCRIPTION:Jewish Federation of the Greater San Gabriel & Pomona Valleys\n
 COMMUNITY CALENDAR\nhttps://jewishsgpv.org/calendar/jewish-book-festival-o
 mer-bartov--the-butterfly-and-the-axe\n\nInspired by his own family histor
 y\, Omer Bartov draws on extensive research\, letters\, diaries and confes
 sions in this novel to reconstruct the circumstances surrounding a family
 ’s murder in an Ukrainian village in 1944. As the lives of the unknown v
 ictims are uncovered\, Bartov reveals the impact of these crimes on three 
 generations of survivors\, perpetrators\, and their descendants.\n\nBorn i
 n Israel\, Omer Bartov is an acclaimed historian of Nazi Germany and the H
 olocaust and a professor of ...
DTSTART;TZID=America/Los_Angeles:20231029T160000
DTEND;TZID=America/Los_Angeles:20231029T180000
END:VEVENT
END:VCALENDAR
