BEGIN:VCALENDAR
PRODID:-//eluceo/ical//2.0/EN
VERSION:2.0
CALSCALE:GREGORIAN
BEGIN:VEVENT
UID:60dd3927976186a71647b39ffabeca42
DTSTAMP:20260424T104755Z
SUMMARY:Jewish Book Festival | Martin Indyk: Master of the Game
DESCRIPTION:Jewish Federation of the Greater San Gabriel & Pomona Valleys\n
 COMMUNITY CALENDAR\nhttps://jewishsgpv.org/calendar/jewish-book-festival-m
 artin-indyk-master-of-the-game\n\n
DTSTART;TZID=America/Los_Angeles:20230228T190000
DTEND;TZID=America/Los_Angeles:20230228T203000
END:VEVENT
END:VCALENDAR
