BEGIN:VCALENDAR
PRODID:-//eluceo/ical//2.0/EN
VERSION:2.0
CALSCALE:GREGORIAN
BEGIN:VEVENT
UID:dedad98dc7ac0fbcc4720afd0d1e5b37
DTSTAMP:20260423T034707Z
SUMMARY:Jewish Book Festival | Lana Melman: Artists Under Fire
DESCRIPTION:Jewish Federation of the Greater San Gabriel & Pomona Valleys\n
 COMMUNITY CALENDAR\nhttps://jewishsgpv.org/calendar/jewish-book-festival-l
 ana-melman-artists-under-fire\n\n
DTSTART;TZID=America/Los_Angeles:20221203T193000
DTEND;TZID=America/Los_Angeles:20221203T210000
END:VEVENT
END:VCALENDAR
