BEGIN:VCALENDAR
PRODID:-//eluceo/ical//2.0/EN
VERSION:2.0
CALSCALE:GREGORIAN
BEGIN:VEVENT
UID:8239de1fc8246749ca37ebe3aeb208c6
DTSTAMP:20260424T104715Z
SUMMARY:Jewish Book Festival | Jose and the Pirate Captain Toledano
DESCRIPTION:Jewish Federation of the Greater San Gabriel & Pomona Valleys\n
 COMMUNITY CALENDAR\nhttps://jewishsgpv.org/calendar/jewish-book-festival-j
 ose-and-the-pirate-captain-toledano\n\n
DTSTART;TZID=America/Los_Angeles:20221030T150000
DTEND;TZID=America/Los_Angeles:20221030T160000
END:VEVENT
END:VCALENDAR
