BEGIN:VCALENDAR
PRODID:-//eluceo/ical//2.0/EN
VERSION:2.0
CALSCALE:GREGORIAN
BEGIN:VEVENT
UID:dfc694012914b30ef515ed5d810c99c3
DTSTAMP:20260425T011112Z
SUMMARY:Jewish Book Festival | Jai Chakrabarti: A Play for the End of the W
 orld
DESCRIPTION:Jewish Federation of the Greater San Gabriel & Pomona Valleys\n
 COMMUNITY CALENDAR\nhttps://jewishsgpv.org/calendar/jewish-book-festival-j
 ai-chakrabarti-a-play-for-the-end-of-the-world\n\n
DTSTART;TZID=America/Los_Angeles:20221204T160000
DTEND;TZID=America/Los_Angeles:20221204T180000
END:VEVENT
END:VCALENDAR
