BEGIN:VCALENDAR
PRODID:-//eluceo/ical//2.0/EN
VERSION:2.0
CALSCALE:GREGORIAN
BEGIN:VEVENT
UID:e0d61beb546599a60eded70b4bfbf2d9
DTSTAMP:20260422T193904Z
SUMMARY:Jewish Book Festival | Helene Stapinski & Bonnie Siegler
DESCRIPTION:Jewish Federation of the Greater San Gabriel & Pomona Valleys\n
 COMMUNITY CALENDAR\nhttps://jewishsgpv.org/calendar/jewish-book-festival-h
 elene-stapinski--bonnie-siegler\n\nHave you ever wondered what Superman an
 d Marilyn Monroe might have in common? This spirited true adventure shows 
 how the birth of the comic book and the magic of movies intersected with t
 he lives of WWII Jewish refugees and real-life heroes. The spark for these
  stories is Jules Schulback\, grandfather of one of the authors\, who snap
 ped one of the century’s most iconic photographs of Marilyn Monroe. \n
  \nHelene Stapinski is the bestselling author of three memoirs. She write
 s regularly for T...
DTSTART;TZID=America/Los_Angeles:20231104T190000
DTEND;TZID=America/Los_Angeles:20231104T210000
END:VEVENT
END:VCALENDAR
