BEGIN:VCALENDAR
PRODID:-//eluceo/ical//2.0/EN
VERSION:2.0
CALSCALE:GREGORIAN
BEGIN:VEVENT
UID:0188779731f3f49a2a1901a40b3d4776
DTSTAMP:20260423T034657Z
SUMMARY:Jewish Book Festival | David Sipress: What’s So Funny?
DESCRIPTION:Jewish Federation of the Greater San Gabriel & Pomona Valleys\n
 COMMUNITY CALENDAR\nhttps://jewishsgpv.org/calendar/jewish-book-festival-d
 avid-sipress-whats-so-funny\n\n
DTSTART;TZID=America/Los_Angeles:20221210T193000
DTEND;TZID=America/Los_Angeles:20221210T210000
END:VEVENT
END:VCALENDAR
