BEGIN:VCALENDAR
PRODID:-//eluceo/ical//2.0/EN
VERSION:2.0
CALSCALE:GREGORIAN
BEGIN:VEVENT
UID:42b282b0d254edec56f79bed1c30d661
DTSTAMP:20260421T074457Z
SUMMARY:Jewish Book Festival | Dan Grunfeld: By the Grace of the Game
DESCRIPTION:Jewish Federation of the Greater San Gabriel & Pomona Valleys\n
 COMMUNITY CALENDAR\nhttps://jewishsgpv.org/calendar/jewish-book-festival-d
 an-grunfeld-by-the-grace-of-the-game\n\n
DTSTART;TZID=America/Los_Angeles:20221119T193000
DTEND;TZID=America/Los_Angeles:20221119T210000
END:VEVENT
END:VCALENDAR
