BEGIN:VCALENDAR
PRODID:-//eluceo/ical//2.0/EN
VERSION:2.0
CALSCALE:GREGORIAN
BEGIN:VEVENT
UID:9570a9d65a30069665a8aad9c18cf537
DTSTAMP:20260422T222025Z
SUMMARY:Jewish Book Festival | Andrew Lawler: Under Jerusalem
DESCRIPTION:Jewish Federation of the Greater San Gabriel & Pomona Valleys\n
 COMMUNITY CALENDAR\nhttps://jewishsgpv.org/calendar/jewish-book-festival-a
 ndrew-lawler-under-jerusalem\n\n
DTSTART;TZID=America/Los_Angeles:20221106T160000
DTEND;TZID=America/Los_Angeles:20221106T173000
END:VEVENT
END:VCALENDAR
