BEGIN:VCALENDAR
PRODID:-//eluceo/ical//2.0/EN
VERSION:2.0
CALSCALE:GREGORIAN
BEGIN:VEVENT
UID:997f8b14da7fdb050c1a0841462411ac
DTSTAMP:20260420T165134Z
SUMMARY:Jewish Book Festival | Aliza Sokolow | This Is What I Eat
DESCRIPTION:Jewish Federation of the Greater San Gabriel & Pomona Valleys\n
 COMMUNITY CALENDAR\nhttps://jewishsgpv.org/calendar/jewish-book-festival-a
 liza-sokolow--this-is-what-i-eat\n\nAliza Sokolow is a private chef\, food
  stylist\, and award-winning photographer. She got her start working for J
 amie Oliver’s Food Revolution project\, and her work has won her an Emmy
 \, several  Emmy nominations\, and a James Beard Media Award. Her childre
 n’s activity book\, This is What I Eat\, is an introduction to mindful-e
 ating for families. It is a playful\, interactive guide to healthy eating 
 and engaging with our planet and is perfect for budding foodies and their 
 grownups. \n\nAliza wi...
DTSTART;TZID=America/Los_Angeles:20231112T100000
DTEND;TZID=America/Los_Angeles:20231112T120000
END:VEVENT
END:VCALENDAR
