BEGIN:VCALENDAR
PRODID:-//eluceo/ical//2.0/EN
VERSION:2.0
CALSCALE:GREGORIAN
BEGIN:VEVENT
UID:2adc09b97e9844e910fae1a060ddf68f
DTSTAMP:20260422T151823Z
SUMMARY:Jewish Book Festival | A.J. Sidransky | Incident at San Miguel
DESCRIPTION:Jewish Federation of the Greater San Gabriel & Pomona Valleys\n
 COMMUNITY CALENDAR\nhttps://jewishsgpv.org/calendar/jewish-book-festival-a
 j-sidransky--incident-at-san-miguel\n\n \n\nUnlike in Europe\, many Jews 
 in Cuba built a good life after the Holocaust and were relatively free of 
 antisemitism. However\, they were eventually targeted under Castro’s Com
 munist regime because of their entrepreneurial class\, and most of them em
 igrated to America.\n\n \n\nSet in Cuba in the 1950s\, this novel about t
 wo Jewish brothers on opposite sides of Castro’s revolution is based on 
 a true story. After the rescue of a resistance leader one night\, one brot
 her is hunted\, and the ...
DTSTART;TZID=America/Los_Angeles:20231119T160000
DTEND;TZID=America/Los_Angeles:20231119T180000
END:VEVENT
END:VCALENDAR
