BEGIN:VCALENDAR
PRODID:-//eluceo/ical//2.0/EN
VERSION:2.0
CALSCALE:GREGORIAN
BEGIN:VEVENT
UID:389c29ce3b276328f52e7d90fc7b5caf
DTSTAMP:20260424T083934Z
SUMMARY:Jewish Book Festival | Adeena Sussman | Shabbat
DESCRIPTION:Jewish Federation of the Greater San Gabriel & Pomona Valleys\n
 COMMUNITY CALENDAR\nhttps://jewishsgpv.org/calendar/jewish-book-festival-a
 deena-sussman--shabbat\n\nIn her best-selling cookbook Sababa\, Adeena Sus
 sman brought alive the spicy\, bright flavors of Israeli cuisine. Border-c
 rossing Middle East ingredients like tahini\, sumac\, harissa\, and za’a
 tar are a signature of her recipes. Her new cookbook\, Shabbat\, is a very
  personal take on the Israeli weekend foods centered around Shabbat\, a tr
 adition of rest\, relaxation\, reflection\, and sharing with family and fr
 iends. \n \nA Shabbat meal is more than just cholent and challah.  Shab
 bat cooking is a...
DTSTART;TZID=America/Los_Angeles:20231107T190000
DTEND;TZID=America/Los_Angeles:20231107T210000
END:VEVENT
END:VCALENDAR
