BEGIN:VCALENDAR
PRODID:-//eluceo/ical//2.0/EN
VERSION:2.0
CALSCALE:GREGORIAN
BEGIN:VEVENT
UID:3bf5ca39441e839121ce3140f1c9df48
DTSTAMP:20260421T010055Z
SUMMARY:Israel's Unity Government: What to Expect
DESCRIPTION:Jewish Federation of the Greater San Gabriel & Pomona Valleys\n
 COMMUNITY CALENDAR\nhttps://jewishsgpv.org/calendar/israels-unity-governme
 nt-what-to-expect\n\n
DTSTART;TZID=America/Los_Angeles:20200524T100000
DTEND;TZID=America/Los_Angeles:20200524T110000
END:VEVENT
END:VCALENDAR
