BEGIN:VCALENDAR
PRODID:-//eluceo/ical//2.0/EN
VERSION:2.0
CALSCALE:GREGORIAN
BEGIN:VEVENT
UID:b355892f498b53eadb47ce53e2addbcd
DTSTAMP:20260420T095546Z
SUMMARY:Israel: Jewish V. Democratic
DESCRIPTION:Jewish Federation of the Greater San Gabriel & Pomona Valleys\n
 COMMUNITY CALENDAR\nhttps://jewishsgpv.org/calendar/israel-jewish-v-democr
 at\n\nDr. Talshir leads Reflections on the 1948 Declaration of Independenc
 e through the Netanyahu Era and Beyond\n\nSunday May 1 7pm both in person 
 and via Zoom\n\nPresented by The Pasadena Jewish Temple and Center\n\nTo R
 egister go to: ISRAEL: JEWISH V. DEMOCRATIC - Form - Pasadena Jewish Templ
 e and Center (pjtc.net)\n\nFor more information\, email: adulted@pjtc.net
DTSTART;TZID=America/Los_Angeles:20220501T190000
DTEND;TZID=America/Los_Angeles:20220501T210000
END:VEVENT
END:VCALENDAR
