BEGIN:VCALENDAR
PRODID:-//eluceo/ical//2.0/EN
VERSION:2.0
CALSCALE:GREGORIAN
BEGIN:VEVENT
UID:a0c8917661d567428b2b0ea85486f0b4
DTSTAMP:20260425T022608Z
SUMMARY:If it's Shavuot can summer be far behind?
DESCRIPTION:Jewish Federation of the Greater San Gabriel & Pomona Valleys\n
 COMMUNITY CALENDAR\nhttps://jewishsgpv.org/calendar/if-its-shavuot-can-sum
 mer-be-far-behind\n\nClick here to reserve your kit
DTSTART;TZID=America/Los_Angeles:20210516T000000
DTEND;TZID=America/Los_Angeles:20210518T235959
END:VEVENT
END:VCALENDAR
