BEGIN:VCALENDAR
PRODID:-//eluceo/ical//2.0/EN
VERSION:2.0
CALSCALE:GREGORIAN
BEGIN:VEVENT
UID:5a02bb0343b65a81bdfc5788fa8366e7
DTSTAMP:20260422T001951Z
SUMMARY:“I Danced for the Angel of Death: The Dr. Edith Eva Eger Story.
 ”
DESCRIPTION:Jewish Federation of the Greater San Gabriel & Pomona Valleys\n
 COMMUNITY CALENDAR\nhttps://jewishsgpv.org/calendar/i-danced-for-the-angel
 -of-death-the-dr-edith-eva-eger-story\n\nYOM HASHOAH: Screening and Servic
 e - Screening of “I Danced for the Angel of Death: The Dr. Edith Eva Ege
 r Story.”\n\nPresented by Riverside Temple Beth El\n\nRSVP:TBD\n\n\n\nAt
  the age of sixteen\, Edith Eger was sent to Auschwitz. Hours after her pa
 rents were killed\, Nazi officer Dr. Josef Mengele forced her to dance for
  his amusement. This saved her life. 2021 Emmy Award for Long Form Feature
 . Following the screening we will offer a meaningful service.
DTSTART;TZID=America/Los_Angeles:20220427T170000
DTEND;TZID=America/Los_Angeles:20220427T200000
END:VEVENT
END:VCALENDAR
