BEGIN:VCALENDAR
PRODID:-//eluceo/ical//2.0/EN
VERSION:2.0
CALSCALE:GREGORIAN
BEGIN:VEVENT
UID:e1505e241dee3346d1184dbb039ffc0b
DTSTAMP:20260423T111125Z
SUMMARY:How to win hearts and minds: Combating antisemitism workshop
DESCRIPTION:Jewish Federation of the Greater San Gabriel & Pomona Valleys\n
 COMMUNITY CALENDAR\nhttps://jewishsgpv.org/calendar/how-to-win-hearts-and-
 minds-combating-antisemitism-workshop\n\nHow to win hearts and minds\n\nCo
 mmunication strategies for combating antisemitism\n\nTuesday\, May 19\, 7 
 pm\n\nTemple Beth David\n\n \n\nAntisemitic incidents have increased by 3
 44% over the past five years\, and many Jews are finding themselves facing
  difficult conversations with friends\, colleagues\, classmates\, and neig
 hbors.\n\n \n\nIn moments like these\, knowing what to say — and how to
  say it — matters.\n\n \n\nDrawing on years of research from the ADL Ce
 nter for Antisemitism Resea...
DTSTART;TZID=America/Los_Angeles:20260519T190000
DTEND;TZID=America/Los_Angeles:20260519T210000
END:VEVENT
END:VCALENDAR
