BEGIN:VCALENDAR
PRODID:-//eluceo/ical//2.0/EN
VERSION:2.0
CALSCALE:GREGORIAN
BEGIN:VEVENT
UID:4b2265e0f47780ff324751caf9ed7394
DTSTAMP:20260421T013302Z
SUMMARY:Hebrew/Sunday School | Temple Sholom of Ontario
DESCRIPTION:Jewish Federation of the Greater San Gabriel & Pomona Valleys\n
 COMMUNITY CALENDAR\nhttps://jewishsgpv.org/calendar/hebrewsunday-school-te
 mple-sholom-of-ontario\n\nSundays at 10:00 am - 11:30 am:\n\n1) 10:00am - 
 10:40am - Hebrew Reading\, weekly Torah Portion and discussion for pre-B
 ’nai Mitzvah students (10-13)\n\n2) 10-minute break\n\n3) 10:50am - 11:3
 0am - Songs\, Life Cycle Events\, Prayers\, etc. for all students.On Zoom 
 only.
DTSTART;TZID=America/Los_Angeles:20210502T100000
DTEND;TZID=America/Los_Angeles:20210502T113000
END:VEVENT
END:VCALENDAR
