BEGIN:VCALENDAR
PRODID:-//eluceo/ical//2.0/EN
VERSION:2.0
CALSCALE:GREGORIAN
BEGIN:VEVENT
UID:f74ee2875b2b48769001de6d664f55fc
DTSTAMP:20260419T181902Z
SUMMARY:Happening Hanukkah Party @ Vroman's
DESCRIPTION:Jewish Federation of the Greater San Gabriel & Pomona Valleys\n
 COMMUNITY CALENDAR\nhttps://jewishsgpv.org/calendar/happening-hanukkah-par
 ty-vromans\n\n
DTSTART;TZID=America/Los_Angeles:20231203T110000
DTEND;TZID=America/Los_Angeles:20231203T120000
END:VEVENT
END:VCALENDAR
