BEGIN:VCALENDAR
PRODID:-//eluceo/ical//2.0/EN
VERSION:2.0
CALSCALE:GREGORIAN
BEGIN:VEVENT
UID:be32069db749a8ce7815085551fc9098
DTSTAMP:20260425T194655Z
SUMMARY:Hanukkah Dinner
DESCRIPTION:Jewish Federation of the Greater San Gabriel & Pomona Valleys\n
 COMMUNITY CALENDAR\nhttps://jewishsgpv.org/calendar/hanukkah-dinner\n\nPle
 ase join us for a fabulous Hanukkah Dinner on December 27\, 2024 at 6:15PM
  and Service and Celebration at 7:30PM.  For security\, reservations are 
 required.  Please RSVP at office@templebd.com\n\n \n\n$30 Per person\n\n
 For Families of more than 4 a 20% discount will be applied.
DTSTART;TZID=America/Los_Angeles:20241227T181500
DTEND;TZID=America/Los_Angeles:20241227T213000
END:VEVENT
END:VCALENDAR
