BEGIN:VCALENDAR
PRODID:-//eluceo/ical//2.0/EN
VERSION:2.0
CALSCALE:GREGORIAN
BEGIN:VEVENT
UID:61890a042fb36ad1a01692c423779293
DTSTAMP:20260424T060417Z
SUMMARY:Hanukkah Boutique & Craft Faire
DESCRIPTION:Jewish Federation of the Greater San Gabriel & Pomona Valleys\n
 COMMUNITY CALENDAR\nhttps://jewishsgpv.org/calendar/hanukkah-boutique-craf
 t-faire\n\n
DTSTART;TZID=America/Los_Angeles:20251116T090000
DTEND;TZID=America/Los_Angeles:20251116T130000
END:VEVENT
END:VCALENDAR
