BEGIN:VCALENDAR
PRODID:-//eluceo/ical//2.0/EN
VERSION:2.0
CALSCALE:GREGORIAN
BEGIN:VEVENT
UID:ccf8eb4032f5be82d645a0bec2b710ad
DTSTAMP:20260422T223151Z
SUMMARY:Great Power\, Great Responsibility | TBI HP & ER
DESCRIPTION:Jewish Federation of the Greater San Gabriel & Pomona Valleys\n
 COMMUNITY CALENDAR\nhttps://jewishsgpv.org/calendar/great-power-great-resp
 onsibility-tbi-hp--er\n\n
DTSTART;TZID=America/Los_Angeles:20230907T190000
DTEND;TZID=America/Los_Angeles:20230907T200000
END:VEVENT
END:VCALENDAR
