BEGIN:VCALENDAR
PRODID:-//eluceo/ical//2.0/EN
VERSION:2.0
CALSCALE:GREGORIAN
BEGIN:VEVENT
UID:fcdf1c5a5fc2d9d8d531db94935d1a8e
DTSTAMP:20260425T202750Z
SUMMARY:Great Matzah Bake-Off
DESCRIPTION:Jewish Federation of the Greater San Gabriel & Pomona Valleys\n
 COMMUNITY CALENDAR\nhttps://jewishsgpv.org/calendar/great-matzah-bake-off\
 n\n
DTSTART;TZID=America/Los_Angeles:20250406T100000
DTEND;TZID=America/Los_Angeles:20250406T120000
END:VEVENT
END:VCALENDAR
