BEGIN:VCALENDAR
PRODID:-//eluceo/ical//2.0/EN
VERSION:2.0
CALSCALE:GREGORIAN
BEGIN:VEVENT
UID:74e612513d2388c85ec74843742be59b
DTSTAMP:20260420T130908Z
SUMMARY:Gan Shalom @ Home
DESCRIPTION:Jewish Federation of the Greater San Gabriel & Pomona Valleys\n
 COMMUNITY CALENDAR\nhttps://jewishsgpv.org/calendar/gan-shalom-home\n\n
DTSTART;TZID=America/Los_Angeles:20200630T000000
DTEND;TZID=America/Los_Angeles:20200630T235959
END:VEVENT
END:VCALENDAR
