BEGIN:VCALENDAR
PRODID:-//eluceo/ical//2.0/EN
VERSION:2.0
CALSCALE:GREGORIAN
BEGIN:VEVENT
UID:bf08af5e5d7cc9675b91a3438de5f3de
DTSTAMP:20260424T053942Z
SUMMARY:Gan Katan: PJ Library's Pre-Shabbat Playgroup
DESCRIPTION:Jewish Federation of the Greater San Gabriel & Pomona Valleys\n
 COMMUNITY CALENDAR\nhttps://jewishsgpv.org/calendar/gan-katan-pj-librarys-
 pre-shabbat-playgroup\n\nWe will celebrate Shabbat and holidays by singing
 \, dancing\, playing\, sharing\, reading books\, and learning a little Heb
 rew all while creating a safe Jewish community for you and your little one
 !\n\nWe meet twice a month in the community room of the Jewish Federation\
 n114A W. Lime Ave.\, Monrovia 91016\n\nFall session begins on Friday\, Sep
 tember 16\, 2022 from 10 a.m.- 11:30 a.m.\n\n \n\nFor more information\, 
 please contact  Debby Singer at dsinger@jewishsgpv.org \nor call 626.44
 5.0810
DTSTART;TZID=America/Los_Angeles:20220916T100000
DTEND;TZID=America/Los_Angeles:20220916T113000
END:VEVENT
END:VCALENDAR
