BEGIN:VCALENDAR
PRODID:-//eluceo/ical//2.0/EN
VERSION:2.0
CALSCALE:GREGORIAN
BEGIN:VEVENT
UID:dadcaad833f4a504211e21755a983ea6
DTSTAMP:20260424T161008Z
SUMMARY:Gan Katan | PJ Library's Little Garden
DESCRIPTION:Jewish Federation of the Greater San Gabriel & Pomona Valleys\n
 COMMUNITY CALENDAR\nhttps://jewishsgpv.org/calendar/gan-katan-pj-librarys-
 little-garden_11\n\nJoin Gan Katan\, PJ Library's playgroup for babies\, t
 oddlers\, and their grown-ups. We will sing a little\, read stories\, do a
 ge-appropriate art projects\, celebrate Jewish holidays\, learn a little H
 ebrew\, share\, listen\, and support one another.\n\nJoin us in the commun
 ity room of our Jewish Federation: \n114A W. Lime Ave.\, Monrovia\, 91016
 \n\n\nFridays | 9:30 am - 11:30 am \n \n\nDates for the Fall Semester (
 2023-2024):\n\nOctober 13\, 27\, November 3\, 17\, December 1\, 15 & Janua
 ry 12\, 26\n...
DTSTART;TZID=America/Los_Angeles:20231103T093000
DTEND;TZID=America/Los_Angeles:20231103T113000
END:VEVENT
END:VCALENDAR
