BEGIN:VCALENDAR
PRODID:-//eluceo/ical//2.0/EN
VERSION:2.0
CALSCALE:GREGORIAN
BEGIN:VEVENT
UID:5c123c2d1b5f5f20532f447f0161631d
DTSTAMP:20260425T212026Z
SUMMARY:Gan Katan blooms on Zoom
DESCRIPTION:Jewish Federation of the Greater San Gabriel & Pomona Valleys\n
 COMMUNITY CALENDAR\nhttps://jewishsgpv.org/calendar/gan-katan-blooms-on-zo
 om\n\nClick here to register
DTSTART;TZID=America/Los_Angeles:20200911T093000
DTEND;TZID=America/Los_Angeles:20200911T103000
END:VEVENT
END:VCALENDAR
