BEGIN:VCALENDAR
PRODID:-//eluceo/ical//2.0/EN
VERSION:2.0
CALSCALE:GREGORIAN
BEGIN:VEVENT
UID:b57ca2b5509fa69b99659e84e22060b8
DTSTAMP:20260424T115557Z
SUMMARY:Friday Shabbat Service with Julie Sofer
DESCRIPTION:Jewish Federation of the Greater San Gabriel & Pomona Valleys\n
 COMMUNITY CALENDAR\nhttps://jewishsgpv.org/calendar/friday-shabbat-service
 -with-julie-sofer\n\n
DTSTART;TZID=America/Los_Angeles:20250509T193000
DTEND;TZID=America/Los_Angeles:20250509T210000
END:VEVENT
END:VCALENDAR
