BEGIN:VCALENDAR
PRODID:-//eluceo/ical//2.0/EN
VERSION:2.0
CALSCALE:GREGORIAN
BEGIN:VEVENT
UID:5bcd23cf421c5719c522bc4de9deab7e
DTSTAMP:20260422T172254Z
SUMMARY:Shabbat Service - The New Moon of the Jewish Month
DESCRIPTION:Jewish Federation of the Greater San Gabriel & Pomona Valleys\n
 COMMUNITY CALENDAR\nhttps://jewishsgpv.org/calendar/friday-shabbat-service
 -the-new-moon\n\n
DTSTART;TZID=America/Los_Angeles:20250725T193000
DTEND;TZID=America/Los_Angeles:20250725T213000
END:VEVENT
END:VCALENDAR
