BEGIN:VCALENDAR
PRODID:-//eluceo/ical//2.0/EN
VERSION:2.0
CALSCALE:GREGORIAN
BEGIN:VEVENT
UID:c8e8bb1ad4f3ed93ea98deaed5c1e60a
DTSTAMP:20260424T145607Z
SUMMARY:Friday Night Shabbat at Temple Sholom of Ontario
DESCRIPTION:Jewish Federation of the Greater San Gabriel & Pomona Valleys\n
 COMMUNITY CALENDAR\nhttps://jewishsgpv.org/calendar/friday-night-shabbat-a
 t-temple-sholom-of-ontario\n\nJoin Temple Sholom of Ontario for Shabbat se
 rvice every Friday at 7:30 pm via Zoom. \n\nWeekly: https://zoom.us/j/95
 916921070?pwd=TWpUd1k0ZmJVdkEwNmlsZXB6Ti90dz09\n\nJoin Zoom Meeting\nhttps
 ://zoom.us/j/95916921070?pwd=TWpUd1k0ZmJVdkEwNmlsZXB6Ti90dz09\n\nMeeting I
 D: 959 1692 1070\nPassword: Email secretary@templesholomofontario.org to g
 et password\n\nFind your local number: https://zoom.us/u/aexgMvxIZH
DTSTART;TZID=America/Los_Angeles:20200529T193000
DTEND;TZID=America/Los_Angeles:20200529T203000
END:VEVENT
END:VCALENDAR
