BEGIN:VCALENDAR
PRODID:-//eluceo/ical//2.0/EN
VERSION:2.0
CALSCALE:GREGORIAN
BEGIN:VEVENT
UID:d0fe5aeeb952b374ea28305f251d1d56
DTSTAMP:20260424T052833Z
SUMMARY:Friday Night Service with Cantor Mike\, Temple Ami Shalom
DESCRIPTION:Jewish Federation of the Greater San Gabriel & Pomona Valleys\n
 COMMUNITY CALENDAR\nhttps://jewishsgpv.org/calendar/friday-night-service-w
 ith-cantor-mike-temple-ami-shalom\n\nJoin Temple Ami Shalom virtually ever
 y Friday night. \n\nPLEASE  CONSULT THE “SHOFAR BLAST” OR CALL THE O
 FFICE FOR DETAILS\n\nhttps://templeamishalom.org/event/friday-evening-zoom
 -service\n\n 
DTSTART;TZID=America/Los_Angeles:20200828T190000
DTEND;TZID=America/Los_Angeles:20200828T210000
END:VEVENT
END:VCALENDAR
