BEGIN:VCALENDAR
PRODID:-//eluceo/ical//2.0/EN
VERSION:2.0
CALSCALE:GREGORIAN
BEGIN:VEVENT
UID:2da4775b7c94a9ef66ea39f997c6d682
DTSTAMP:20260425T020229Z
SUMMARY:Final Day of L'Dor Vador with JAS Students
DESCRIPTION:Jewish Federation of the Greater San Gabriel & Pomona Valleys\n
 COMMUNITY CALENDAR\nhttps://jewishsgpv.org/calendar/final-day-of-ldor-vado
 r-with-jas\n\n
DTSTART;TZID=America/Los_Angeles:20260515T190000
DTEND;TZID=America/Los_Angeles:20260515T210000
END:VEVENT
END:VCALENDAR
