BEGIN:VCALENDAR
PRODID:-//eluceo/ical//2.0/EN
VERSION:2.0
CALSCALE:GREGORIAN
BEGIN:VEVENT
UID:a1c2a13e1d0fd05c9c71c9fea84e9c73
DTSTAMP:20260421T045245Z
SUMMARY:Fiddler on the Roof
DESCRIPTION:Jewish Federation of the Greater San Gabriel & Pomona Valleys\n
 COMMUNITY CALENDAR\nhttps://jewishsgpv.org/calendar/fiddler-on-the-roof-sa
 turday\n\nIn celebration of our 30th Anniversary\, the Jewish Federation o
 f the Greater San Gabriel and Pomona Valleys’ JFed Players are proud to 
 present the iconic musical Fiddler on the Roof\, chronicling the trials a
 nd tribulations of Tevye\, his family\, and the villagers of Anatevka. A m
 usical about life\, resilience\, family\, and … TRADITION!\n\n \n\nTo p
 urchase tickets\, visit: www.jewishsgpv.org\n\n \n\nSponsorship opportuni
 ties are available\, for more information\, contact:\n\nCantor Judy Sofer.
 ..
DTSTART;TZID=America/Los_Angeles:20240406T200000
DTEND;TZID=America/Los_Angeles:20240406T223000
END:VEVENT
END:VCALENDAR
