BEGIN:VCALENDAR
PRODID:-//eluceo/ical//2.0/EN
VERSION:2.0
CALSCALE:GREGORIAN
BEGIN:VEVENT
UID:f6ec97822ab971158f046c0460b1149d
DTSTAMP:20260422T070402Z
SUMMARY:16th Festival of Jewish Music
DESCRIPTION:Jewish Federation of the Greater San Gabriel & Pomona Valleys\n
 COMMUNITY CALENDAR\nhttps://jewishsgpv.org/calendar/festival-of-jewish-mus
 ic-2024\n\n 
DTSTART;TZID=America/Los_Angeles:20241222T150000
DTEND;TZID=America/Los_Angeles:20241222T170000
END:VEVENT
END:VCALENDAR
