BEGIN:VCALENDAR
PRODID:-//eluceo/ical//2.0/EN
VERSION:2.0
CALSCALE:GREGORIAN
BEGIN:VEVENT
UID:026b861e16a27ccc9d24d583f8de1dc4
DTSTAMP:20260420T144136Z
SUMMARY:Family Fun Night Fundraiser
DESCRIPTION:Jewish Federation of the Greater San Gabriel & Pomona Valleys\n
 COMMUNITY CALENDAR\nhttps://jewishsgpv.org/calendar/family-fun-night-fundr
 aiser\n\nJoin Temple Beth David Annual Family Fun Night Fundraiser on Marc
 h 22\, 2025.  This event supports our Jewish Adventure School.  It is fr
 om 5:00PM-9:00PM with Silent and Live Auction\, Spaghetti Dinner\, Games\,
  Raffles and more.\n\nRservations due by March 18\n\nCost: $20 Per Dinner\
 n\n$50 For the Entire Family
DTSTART;TZID=America/Los_Angeles:20250322T170000
DTEND;TZID=America/Los_Angeles:20250322T210000
END:VEVENT
END:VCALENDAR
