BEGIN:VCALENDAR
PRODID:-//eluceo/ical//2.0/EN
VERSION:2.0
CALSCALE:GREGORIAN
BEGIN:VEVENT
UID:954fe04f7eea2142b1a9f88b16681659
DTSTAMP:20260420T084051Z
SUMMARY:Erev Shabbat Service
DESCRIPTION:Jewish Federation of the Greater San Gabriel & Pomona Valleys\n
 COMMUNITY CALENDAR\nhttps://jewishsgpv.org/calendar/erev-shabbat-service-1
 594149477\n\nTemple Beth Israel presents Erev Shabbat worship  with Rabbi
  Joanthan and Cantor Paul live on facebook.com/tbipomona and YouTube (sear
 ch TBI Pomona).  We use Mishkan T'filah\, which is available as an Kindle
  book.  We also screenshare the text when possible.
DTSTART;TZID=America/Los_Angeles:20200710T193000
DTEND;TZID=America/Los_Angeles:20200710T210000
END:VEVENT
END:VCALENDAR
