BEGIN:VCALENDAR
PRODID:-//eluceo/ical//2.0/EN
VERSION:2.0
CALSCALE:GREGORIAN
BEGIN:VEVENT
UID:a98bc6031a3480de24cf574fb2b4fd7e
DTSTAMP:20260424T062757Z
SUMMARY:Erev Shabbat | Temple Ami Shalom | On Zoom
DESCRIPTION:Jewish Federation of the Greater San Gabriel & Pomona Valleys\n
 COMMUNITY CALENDAR\nhttps://jewishsgpv.org/calendar/erev-shabbat\n\nErev S
 habbat service on Zoom.
DTSTART;TZID=America/Los_Angeles:20251128T190000
DTEND;TZID=America/Los_Angeles:20251128T200000
END:VEVENT
END:VCALENDAR
